BEGIN:VCALENDAR
VERSION:2.0
PRODID:-//wp-events-plugin.com//7.2.3.1//EN
TZID:America/Los_Angeles
X-WR-TIMEZONE:America/Los_Angeles
BEGIN:VEVENT
UID:2@sandbox.sfwa.org
DTSTART;TZID=America/Los_Angeles:20260120T140000
DTEND;TZID=America/Los_Angeles:20260120T150000
DTSTAMP:20260111T124332Z
URL:https://sandbox.sfwa.org/events/sfwa-middle-grade-and-ya-writers-meet-
 up/
SUMMARY:SFWA Middle-Grade and YA Writers Meet-up
DESCRIPTION:\n\n\n\n\n\n\n\n\n\n\n\n\n\n\nAre you a SFWA member who’s wri
 ting YA or MG\, or are interested in it? Come join our social hangout!\n\n
 https://events.sfwa.org/events/sfwa-middle-grade-and-ya-writers-meet-up-15
 /\n\n\n\n&nbsp\;\n\n\n\n\n\n\n\n\n\n\n\n\n\n\n\n\n\n\n\n\n\n
CATEGORIES:MG/YA Committee,SFWA Events
END:VEVENT
BEGIN:VTIMEZONE
TZID:America/Los_Angeles
X-LIC-LOCATION:America/Los_Angeles
BEGIN:STANDARD
DTSTART:20251102T010000
TZOFFSETFROM:-0700
TZOFFSETTO:-0800
TZNAME:PST
END:STANDARD
END:VTIMEZONE
END:VCALENDAR