BEGIN:VCALENDAR
VERSION:2.0
PRODID:-//wp-events-plugin.com//7.2.3.1//EN
TZID:America/Los_Angeles
X-WR-TIMEZONE:America/Los_Angeles
BEGIN:VEVENT
UID:1@sandbox.sfwa.org
DTSTART;TZID=America/Los_Angeles:20260115T100000
DTEND;TZID=America/Los_Angeles:20260115T110000
DTSTAMP:20260111T120832Z
URL:https://sandbox.sfwa.org/events/comics-chat-with-james-b-emmett/
SUMMARY:Comics Chat with James B. Emmett
DESCRIPTION:Join the Comics Committee for the January Comics Chat featuring
  James B. Emmett. James is the Senior Editor of Creator Owned Content at M
 ad Cave Studios. His presentation on working with a comics editor will be 
 followed by an informal Q &amp\; A and chat about comics.\n
ATTACH;FMTTYPE=image/jpeg:https://sandbox.sfwa.org/wp-content/uploads/2025
 /02/SFWA-Comics_Final_B-scaled.png
CATEGORIES:Comics Committee,SFWA Events
END:VEVENT
BEGIN:VTIMEZONE
TZID:America/Los_Angeles
X-LIC-LOCATION:America/Los_Angeles
BEGIN:STANDARD
DTSTART:20251102T010000
TZOFFSETFROM:-0700
TZOFFSETTO:-0800
TZNAME:PST
END:STANDARD
END:VTIMEZONE
END:VCALENDAR